BEGIN:VCALENDAR
VERSION:2.0
PRODID:-//Barefoot Landing - ECPv6.11.2//NONSGML v1.0//EN
CALSCALE:GREGORIAN
METHOD:PUBLISH
X-WR-CALNAME:Barefoot Landing
X-ORIGINAL-URL:https://www.bflanding.com
X-WR-CALDESC:Events for Barefoot Landing
REFRESH-INTERVAL;VALUE=DURATION:PT1H
X-Robots-Tag:noindex
X-PUBLISHED-TTL:PT1H
BEGIN:VTIMEZONE
TZID:America/New_York
BEGIN:DAYLIGHT
TZOFFSETFROM:-0500
TZOFFSETTO:-0400
TZNAME:EDT
DTSTART:20250309T070000
END:DAYLIGHT
BEGIN:STANDARD
TZOFFSETFROM:-0400
TZOFFSETTO:-0500
TZNAME:EST
DTSTART:20251102T060000
END:STANDARD
END:VTIMEZONE
BEGIN:VEVENT
DTSTART;TZID=America/New_York:20251025T170000
DTEND;TZID=America/New_York:20251116T190000
DTSTAMP:20260421T110206
CREATED:20250902T163247Z
LAST-MODIFIED:20250902T163353Z
UID:10005031-1761411600-1763319600@www.bflanding.com
SUMMARY:Live Music at LandShark Bar & Grill
DESCRIPTION:Join LandShark Bar & Grill every Friday and Saturday for live music on the patio from 5 pm to 8 pm. \n10/3:          Rich Johnson \n10/4:          Mike McManus \n10/10:        Rich Johnson \n10/11:         Brendan Kirby \n10/17:         Amelia Bonner \n10/18:         Melissa Joiner \n10/24:         Amelia Bonner \n10/25:         Rich Johnson \n10/31:          Rich Johnson \n 
URL:https://www.bflanding.com/event/live-music-at-landshark-bar-grill-2/2025-10-25/
ATTACH;FMTTYPE=image/jpeg:https://www.bflanding.com/wp-content/uploads/2024/06/soloist-at-LS-Patio-scaled.jpeg
END:VEVENT
BEGIN:VEVENT
DTSTART;TZID=America/New_York:20251025T160000
DTEND;TZID=America/New_York:20251025T190000
DTSTAMP:20260421T110206
CREATED:20250929T201855Z
LAST-MODIFIED:20250929T202503Z
UID:10005436-1761408000-1761418800@www.bflanding.com
SUMMARY:Happy Hour at LandShark Bar and Grill
DESCRIPTION:Happy Hour daily from 4 pm to 7 pm \n$4.50 domestic draft \n$5.50 specialty draft \n$7.00 house wine & loaded LandShark \n$8.00 house margarita \n*available exclusively at the bars and cannot be combined with any other offers or discounts. Offers subject to change. Happy Hour options vary by location.
URL:https://www.bflanding.com/event/happy-hour-at-landshark-bar-and-grill/2025-10-25/
ATTACH;FMTTYPE=image/jpeg:https://www.bflanding.com/wp-content/uploads/2024/10/LandShark-night-shot-scaled.jpg
END:VEVENT
BEGIN:VEVENT
DTSTART;TZID=America/New_York:20251025T120000
DTEND;TZID=America/New_York:20251025T160000
DTSTAMP:20260421T110206
CREATED:20250730T143251Z
LAST-MODIFIED:20251020T150051Z
UID:10004925-1761393600-1761408000@www.bflanding.com
SUMMARY:BooFest!
DESCRIPTION:Bring the whole family to Barefoot Landing on Saturday\, Oct. 25th from noon to 4 pm for BooFest!This family friendly event includes costumer contests for the kids and pets. Registration for the contests begins at 11 am. BooFest! will feature\, in addition to the contests\, stilt walkers\, Over the Moon and more! \nAnd don’t forget the free movie feature\, Hocus Pocus showing that night on the Pepsi Stage at 7 pm. \nTrick or Treating is on Oct. 31st from 5 to 7 pm!  \nSo put on your best Halloween costume contests and join us for Barefoot Landing’s BooFest! and other fun Halloween activities! \nContest Schedule: (please be registered and ready to get in line 30 minutes before your age group’s contest) \n12 pm: 3 and under \n1 pm: 4 to 7 year olds \n2 pm: 8 to 12 year olds \n3 pm: Pets
URL:https://www.bflanding.com/event/boofest/
ATTACH;FMTTYPE=image/jpeg:https://www.bflanding.com/wp-content/uploads/2024/09/bulldog-as-rapper-scaled.jpeg
END:VEVENT
BEGIN:VEVENT
DTSTART;TZID=America/New_York:20251025T080000
DTEND;TZID=America/New_York:20251025T170000
DTSTAMP:20260421T110206
CREATED:20250527T123709Z
LAST-MODIFIED:20250527T123709Z
UID:10004089-1761379200-1761411600@www.bflanding.com
SUMMARY:Live Music at Big Chill Island House
DESCRIPTION:Come enjoy live music with Mystic Vibrations from 5 pm to 8 pm at Big Chill Island House.
URL:https://www.bflanding.com/event/live-music-at-big-chill-island-house-6/
ATTACH;FMTTYPE=image/jpeg:https://www.bflanding.com/wp-content/uploads/2024/05/IMG_5275-scaled.jpg
END:VEVENT
BEGIN:VEVENT
DTSTART;TZID=America/New_York:20251024T190000
DTEND;TZID=America/New_York:20251024T200000
DTSTAMP:20260421T110206
CREATED:20250924T150307Z
LAST-MODIFIED:20250924T150307Z
UID:10005123-1761332400-1761336000@www.bflanding.com
SUMMARY:Shoot to Thrill - A Tribute to AC/DC
DESCRIPTION:Doors: 7 pm\, Show: 8 pm \n 
URL:https://www.bflanding.com/event/shoot-to-thrill-a-tribute-to-ac-dc/
ATTACH;FMTTYPE=image/jpeg:https://www.bflanding.com/wp-content/uploads/2024/06/37DS.jpg
END:VEVENT
BEGIN:VEVENT
DTSTART;TZID=America/New_York:20251024T170000
DTEND;TZID=America/New_York:20251216T200000
DTSTAMP:20260421T110206
CREATED:20250730T141238Z
LAST-MODIFIED:20250826T155301Z
UID:10004924-1761325200-1765915200@www.bflanding.com
SUMMARY:Live Music on the Pepsi Stage
DESCRIPTION:Join us for live music every Friday evening from 5 pm to 8 pm and Saturday afternoon from 2 pm to 5 pm through October 24th on the Pepsi Stage. \n9/5:                 If Birds Could Fly \n9/6:                 Salty Dog \n9/12:               Super Reggae Man \n913:                 Saluda Shoals \n9/19:               If Birds Could Fly \n9/20:               SeptemberFest! Special Event – bands noon to 8 pm TBA \n9/26:               Alan Bibey Trio \n9/27:               Sweet Sweet \n10/3:               Skyler Whitfield Duo \n10/4:               OktoberFest! Special Event – bands noon to 6 pm TBA \n10/10:               Stringwood \n10/11:               Funky Junk Duo \n10/17:               The Time Pirates \n10/18:               Tastes Like Chicken Duo \n10/24:               TBA \n  \n*Weather permitting \n*All groups and music subject to change
URL:https://www.bflanding.com/event/live-music-on-the-dockside-village-stage-14/
ATTACH;FMTTYPE=image/jpeg:https://www.bflanding.com/wp-content/uploads/2024/05/02023DC1-ACAC-4205-B83B-1ED1F4615D44-scaled.jpeg
END:VEVENT
BEGIN:VEVENT
DTSTART;TZID=America/New_York:20251024T170000
DTEND;TZID=America/New_York:20251115T190000
DTSTAMP:20260421T110206
CREATED:20250902T163247Z
LAST-MODIFIED:20250902T163353Z
UID:10005030-1761325200-1763233200@www.bflanding.com
SUMMARY:Live Music at LandShark Bar & Grill
DESCRIPTION:Join LandShark Bar & Grill every Friday and Saturday for live music on the patio from 5 pm to 8 pm. \n10/3:          Rich Johnson \n10/4:          Mike McManus \n10/10:        Rich Johnson \n10/11:         Brendan Kirby \n10/17:         Amelia Bonner \n10/18:         Melissa Joiner \n10/24:         Amelia Bonner \n10/25:         Rich Johnson \n10/31:          Rich Johnson \n 
URL:https://www.bflanding.com/event/live-music-at-landshark-bar-grill-2/2025-10-24/
ATTACH;FMTTYPE=image/jpeg:https://www.bflanding.com/wp-content/uploads/2024/06/soloist-at-LS-Patio-scaled.jpeg
END:VEVENT
BEGIN:VEVENT
DTSTART;TZID=America/New_York:20251024T170000
DTEND;TZID=America/New_York:20251024T200000
DTSTAMP:20260421T110206
CREATED:20250929T192900Z
LAST-MODIFIED:20250929T193008Z
UID:10005156-1761325200-1761336000@www.bflanding.com
SUMMARY:Live Music at Crooked Hammock Brewery
DESCRIPTION:Live music is every Friday from 5 pm to 8 pm. Grab a beer\, kick back in the yard (or indoors if the weather brings us inside)\, and enjoy some great tunes!
URL:https://www.bflanding.com/event/live-music-at-crooked-hammock-brewery/2025-10-24/
ATTACH;FMTTYPE=image/jpeg:https://www.bflanding.com/wp-content/uploads/2023/12/CrookedHammock_Backyard2-scaled.jpg
END:VEVENT
BEGIN:VEVENT
DTSTART;TZID=America/New_York:20251024T170000
DTEND;TZID=America/New_York:20251024T200000
DTSTAMP:20260421T110206
CREATED:20250915T190954Z
LAST-MODIFIED:20250915T191206Z
UID:10005097-1761325200-1761336000@www.bflanding.com
SUMMARY:Live Music at Taco Mundo
DESCRIPTION:Enjoy live music (artist TBD) at Taco Mundo from 5 pm to 8 pm. \n 
URL:https://www.bflanding.com/event/live-music-at-taco-mundo-23/
ATTACH;FMTTYPE=image/jpeg:https://www.bflanding.com/wp-content/uploads/2023/12/TACOMUNDO-Gallery-Image13.jpg
END:VEVENT
BEGIN:VEVENT
DTSTART;TZID=America/New_York:20251024T160000
DTEND;TZID=America/New_York:20251024T190000
DTSTAMP:20260421T110206
CREATED:20250929T201855Z
LAST-MODIFIED:20250929T202503Z
UID:10005435-1761321600-1761332400@www.bflanding.com
SUMMARY:Happy Hour at LandShark Bar and Grill
DESCRIPTION:Happy Hour daily from 4 pm to 7 pm \n$4.50 domestic draft \n$5.50 specialty draft \n$7.00 house wine & loaded LandShark \n$8.00 house margarita \n*available exclusively at the bars and cannot be combined with any other offers or discounts. Offers subject to change. Happy Hour options vary by location.
URL:https://www.bflanding.com/event/happy-hour-at-landshark-bar-and-grill/2025-10-24/
ATTACH;FMTTYPE=image/jpeg:https://www.bflanding.com/wp-content/uploads/2024/10/LandShark-night-shot-scaled.jpg
END:VEVENT
BEGIN:VEVENT
DTSTART;TZID=America/New_York:20251023T180000
DTEND;TZID=America/New_York:20251023T230000
DTSTAMP:20260421T110206
CREATED:20250924T145131Z
LAST-MODIFIED:20250924T145131Z
UID:10005116-1761242400-1761260400@www.bflanding.com
SUMMARY:Free Live Music on The Deck
DESCRIPTION:Featuring music from The Fossil Rockers \n6:00-11 PM \nEnjoy FREE Live Music as you dance under the stars while enjoying a hand-crafted cocktail! Happy Hour specials offered from 6-7 PM. Be sure to check out the menu at The Smokehouse where you can grab some delicious Peel-and-Eat Shrimp\, Nachos\, Grilled Oysters\, Smash Burger\, and so much more!
URL:https://www.bflanding.com/event/free-live-music-on-the-deck-3/
ATTACH;FMTTYPE=image/jpeg:https://www.bflanding.com/wp-content/uploads/2024/05/HOB-Deck-at-night.jpg
END:VEVENT
BEGIN:VEVENT
DTSTART;TZID=America/New_York:20251023T160000
DTEND;TZID=America/New_York:20251023T190000
DTSTAMP:20260421T110206
CREATED:20250929T201855Z
LAST-MODIFIED:20250929T202503Z
UID:10005434-1761235200-1761246000@www.bflanding.com
SUMMARY:Happy Hour at LandShark Bar and Grill
DESCRIPTION:Happy Hour daily from 4 pm to 7 pm \n$4.50 domestic draft \n$5.50 specialty draft \n$7.00 house wine & loaded LandShark \n$8.00 house margarita \n*available exclusively at the bars and cannot be combined with any other offers or discounts. Offers subject to change. Happy Hour options vary by location.
URL:https://www.bflanding.com/event/happy-hour-at-landshark-bar-and-grill/2025-10-23/
ATTACH;FMTTYPE=image/jpeg:https://www.bflanding.com/wp-content/uploads/2024/10/LandShark-night-shot-scaled.jpg
END:VEVENT
BEGIN:VEVENT
DTSTART;TZID=America/New_York:20251022T160000
DTEND;TZID=America/New_York:20251022T190000
DTSTAMP:20260421T110206
CREATED:20250929T201855Z
LAST-MODIFIED:20250929T202503Z
UID:10005433-1761148800-1761159600@www.bflanding.com
SUMMARY:Happy Hour at LandShark Bar and Grill
DESCRIPTION:Happy Hour daily from 4 pm to 7 pm \n$4.50 domestic draft \n$5.50 specialty draft \n$7.00 house wine & loaded LandShark \n$8.00 house margarita \n*available exclusively at the bars and cannot be combined with any other offers or discounts. Offers subject to change. Happy Hour options vary by location.
URL:https://www.bflanding.com/event/happy-hour-at-landshark-bar-and-grill/2025-10-22/
ATTACH;FMTTYPE=image/jpeg:https://www.bflanding.com/wp-content/uploads/2024/10/LandShark-night-shot-scaled.jpg
END:VEVENT
BEGIN:VEVENT
DTSTART;TZID=America/New_York:20251021T190000
DTEND;TZID=America/New_York:20251021T200000
DTSTAMP:20260421T110206
CREATED:20250924T150128Z
LAST-MODIFIED:20250924T150128Z
UID:10005122-1761073200-1761076800@www.bflanding.com
SUMMARY:AFI
DESCRIPTION:Doors: 7 pm\, Show: 8 pm \n 
URL:https://www.bflanding.com/event/afi/
ATTACH;FMTTYPE=image/jpeg:https://www.bflanding.com/wp-content/uploads/2024/06/37DS.jpg
END:VEVENT
BEGIN:VEVENT
DTSTART;TZID=America/New_York:20251021T160000
DTEND;TZID=America/New_York:20251021T190000
DTSTAMP:20260421T110206
CREATED:20250929T201855Z
LAST-MODIFIED:20250929T202503Z
UID:10005432-1761062400-1761073200@www.bflanding.com
SUMMARY:Happy Hour at LandShark Bar and Grill
DESCRIPTION:Happy Hour daily from 4 pm to 7 pm \n$4.50 domestic draft \n$5.50 specialty draft \n$7.00 house wine & loaded LandShark \n$8.00 house margarita \n*available exclusively at the bars and cannot be combined with any other offers or discounts. Offers subject to change. Happy Hour options vary by location.
URL:https://www.bflanding.com/event/happy-hour-at-landshark-bar-and-grill/2025-10-21/
ATTACH;FMTTYPE=image/jpeg:https://www.bflanding.com/wp-content/uploads/2024/10/LandShark-night-shot-scaled.jpg
END:VEVENT
BEGIN:VEVENT
DTSTART;TZID=America/New_York:20251020T170000
DTEND;TZID=America/New_York:20251201T170000
DTSTAMP:20260421T110206
CREATED:20250919T184702Z
LAST-MODIFIED:20250919T184702Z
UID:10005102-1760979600-1764608400@www.bflanding.com
SUMMARY:Jukebox Bingo
DESCRIPTION:Come join in the fun of Jukebox Bingo every Monday through Dec. 1st at Taco Mundo starting at 5 pm. \nReservations are recommended.
URL:https://www.bflanding.com/event/jukebox-bingo/2025-10-20/
ATTACH;FMTTYPE=image/jpeg:https://www.bflanding.com/wp-content/uploads/2023/12/TACOMUNDO-Gallery-Image13.jpg
END:VEVENT
BEGIN:VEVENT
DTSTART;TZID=America/New_York:20251018T170000
DTEND;TZID=America/New_York:20251210T200000
DTSTAMP:20260421T110207
CREATED:20250730T141212Z
LAST-MODIFIED:20250826T155345Z
UID:10004923-1760806800-1765396800@www.bflanding.com
SUMMARY:Live Music on the Pepsi Stage
DESCRIPTION:Join us for live music every Friday evening from 5 pm to 8 pm and Saturday afternoon from 2 pm to 5 pm through October 24th on the Pepsi Stage. \n9/5:                 If Birds Could Fly \n9/6:                 Salty Dog \n9/12:               Super Reggae Man \n913:                 Saluda Shoals \n9/19:               If Birds Could Fly \n9/20:               SeptemberFest! Special Event – bands noon to 8 pm TBA \n9/26:               Alan Bibey Trio \n9/27:               Sweet Sweet \n10/3:               Skyler Whitfield Duo \n10/4:               OktoberFest! Special Event – bands noon to 6 pm TBA \n10/10:               Stringwood \n10/11:               Funky Junk Duo \n10/17:               The Time Pirates \n10/18:               Tastes Like Chicken Duo \n10/24:               TBA \n  \n*Weather permitting \n*All groups and music subject to change
URL:https://www.bflanding.com/event/live-music-on-the-dockside-village-stage-13/
ATTACH;FMTTYPE=image/jpeg:https://www.bflanding.com/wp-content/uploads/2024/05/02023DC1-ACAC-4205-B83B-1ED1F4615D44-scaled.jpeg
END:VEVENT
BEGIN:VEVENT
DTSTART;TZID=America/New_York:20251018T170000
DTEND;TZID=America/New_York:20251109T190000
DTSTAMP:20260421T110207
CREATED:20250902T163247Z
LAST-MODIFIED:20250902T163353Z
UID:10005029-1760806800-1762714800@www.bflanding.com
SUMMARY:Live Music at LandShark Bar & Grill
DESCRIPTION:Join LandShark Bar & Grill every Friday and Saturday for live music on the patio from 5 pm to 8 pm. \n10/3:          Rich Johnson \n10/4:          Mike McManus \n10/10:        Rich Johnson \n10/11:         Brendan Kirby \n10/17:         Amelia Bonner \n10/18:         Melissa Joiner \n10/24:         Amelia Bonner \n10/25:         Rich Johnson \n10/31:          Rich Johnson \n 
URL:https://www.bflanding.com/event/live-music-at-landshark-bar-grill-2/2025-10-18/
ATTACH;FMTTYPE=image/jpeg:https://www.bflanding.com/wp-content/uploads/2024/06/soloist-at-LS-Patio-scaled.jpeg
END:VEVENT
BEGIN:VEVENT
DTSTART;TZID=America/New_York:20251017T170000
DTEND;TZID=America/New_York:20251209T200000
DTSTAMP:20260421T110207
CREATED:20250730T141144Z
LAST-MODIFIED:20250826T155423Z
UID:10004922-1760720400-1765310400@www.bflanding.com
SUMMARY:Live Music on the Pepsi Stage
DESCRIPTION:Join us for live music every Friday evening from 5 pm to 8 pm and Saturday afternoon from 2 pm to 5 pm through October 24th on the Pepsi Stage. \n9/5:                 If Birds Could Fly \n9/6:                 Salty Dog \n9/12:               Super Reggae Man \n913:                 Saluda Shoals \n9/19:               If Birds Could Fly \n9/20:               SeptemberFest! Special Event – bands noon to 8 pm TBA \n9/26:               Alan Bibey Trio \n9/27:               Sweet Sweet \n10/3:               Skyler Whitfield Duo \n10/4:               OktoberFest! Special Event – bands noon to 6 pm TBA \n10/10:               Stringwood \n10/11:               Funky Junk Duo \n10/17:               The Time Pirates \n10/18:               Tastes Like Chicken Duo \n10/24:               TBA \n  \n*Weather permitting \n*All groups and music subject to change
URL:https://www.bflanding.com/event/live-music-on-the-dockside-village-stage-12/
ATTACH;FMTTYPE=image/jpeg:https://www.bflanding.com/wp-content/uploads/2024/05/02023DC1-ACAC-4205-B83B-1ED1F4615D44-scaled.jpeg
END:VEVENT
BEGIN:VEVENT
DTSTART;TZID=America/New_York:20251017T170000
DTEND;TZID=America/New_York:20251108T190000
DTSTAMP:20260421T110207
CREATED:20250902T163247Z
LAST-MODIFIED:20250902T163353Z
UID:10005028-1760720400-1762628400@www.bflanding.com
SUMMARY:Live Music at LandShark Bar & Grill
DESCRIPTION:Join LandShark Bar & Grill every Friday and Saturday for live music on the patio from 5 pm to 8 pm. \n10/3:          Rich Johnson \n10/4:          Mike McManus \n10/10:        Rich Johnson \n10/11:         Brendan Kirby \n10/17:         Amelia Bonner \n10/18:         Melissa Joiner \n10/24:         Amelia Bonner \n10/25:         Rich Johnson \n10/31:          Rich Johnson \n 
URL:https://www.bflanding.com/event/live-music-at-landshark-bar-grill-2/2025-10-17/
ATTACH;FMTTYPE=image/jpeg:https://www.bflanding.com/wp-content/uploads/2024/06/soloist-at-LS-Patio-scaled.jpeg
END:VEVENT
BEGIN:VEVENT
DTSTART;TZID=America/New_York:20251013T080000
DTEND;TZID=America/New_York:20251110T160000
DTSTAMP:20260421T110207
CREATED:20250929T195208Z
LAST-MODIFIED:20250929T195208Z
UID:10005211-1760342400-1762790400@www.bflanding.com
SUMMARY:Crooktoberfest
DESCRIPTION:We’re serving up our all-day\, every-day cookout specials\, releasing fresh fall beers\, holding Crooktoberfest competitions\, and hosting weekly live music. We didn’t forget about the little pints—our schedule includes kid-friendly fun too! \n\nCornhole Tournament: Saturday\, October 4th at 5pm\n\no Bring your bag tossing skills to The Hammock for our Crooktoberfest Cornhole Competition starting at 5pm\, hosted by Coastal Tailgating! This is a $10 Blind Draw Tournament with a 100% Payout for the winner. The winning team will also receive a $50 CHB gift card for each player. Sign up in advance or join us day of! \n\nLive Music: Saturday\, October 11th from 5-8pm
URL:https://www.bflanding.com/event/crooktoberfest-2/2025-10-13/
ATTACH;FMTTYPE=image/jpeg:https://www.bflanding.com/wp-content/uploads/2024/05/E59A4D39-B967-4E07-A7D9-5A6B742B0B2B.jpeg
END:VEVENT
BEGIN:VEVENT
DTSTART;TZID=America/New_York:20251012T080000
DTEND;TZID=America/New_York:20251109T160000
DTSTAMP:20260421T110207
CREATED:20250929T195208Z
LAST-MODIFIED:20250929T195208Z
UID:10005210-1760256000-1762704000@www.bflanding.com
SUMMARY:Crooktoberfest
DESCRIPTION:We’re serving up our all-day\, every-day cookout specials\, releasing fresh fall beers\, holding Crooktoberfest competitions\, and hosting weekly live music. We didn’t forget about the little pints—our schedule includes kid-friendly fun too! \n\nCornhole Tournament: Saturday\, October 4th at 5pm\n\no Bring your bag tossing skills to The Hammock for our Crooktoberfest Cornhole Competition starting at 5pm\, hosted by Coastal Tailgating! This is a $10 Blind Draw Tournament with a 100% Payout for the winner. The winning team will also receive a $50 CHB gift card for each player. Sign up in advance or join us day of! \n\nLive Music: Saturday\, October 11th from 5-8pm
URL:https://www.bflanding.com/event/crooktoberfest-2/2025-10-12/
ATTACH;FMTTYPE=image/jpeg:https://www.bflanding.com/wp-content/uploads/2024/05/E59A4D39-B967-4E07-A7D9-5A6B742B0B2B.jpeg
END:VEVENT
BEGIN:VEVENT
DTSTART;TZID=America/New_York:20251011T170000
DTEND;TZID=America/New_York:20251203T200000
DTSTAMP:20260421T110207
CREATED:20250730T140602Z
LAST-MODIFIED:20250826T155530Z
UID:10004921-1760202000-1764792000@www.bflanding.com
SUMMARY:Live Music on the Pepsi Stage
DESCRIPTION:Join us for live music every Friday evening from 5 pm to 8 pm and Saturday afternoon from 2 pm to 5 pm through October 24th on the Pepsi Stage. \n9/5:                 If Birds Could Fly \n9/6:                 Salty Dog \n9/12:               Super Reggae Man \n913:                 Saluda Shoals \n9/19:               If Birds Could Fly \n9/20:               SeptemberFest! Special Event – bands noon to 8 pm TBA \n9/26:               Alan Bibey Trio \n9/27:               Sweet Sweet \n10/3:               Skyler Whitfield Duo \n10/4:               OktoberFest! Special Event – bands noon to 6 pm TBA \n10/10:               Stringwood \n10/11:               Funky Junk Duo \n10/17:               The Time Pirates \n10/18:               Tastes Like Chicken Duo \n10/24:               TBA \n  \n*Weather permitting \n*All groups and music subject to change
URL:https://www.bflanding.com/event/live-music-on-the-dockside-village-stage-11/
ATTACH;FMTTYPE=image/jpeg:https://www.bflanding.com/wp-content/uploads/2024/05/02023DC1-ACAC-4205-B83B-1ED1F4615D44-scaled.jpeg
END:VEVENT
BEGIN:VEVENT
DTSTART;TZID=America/New_York:20251011T170000
DTEND;TZID=America/New_York:20251102T190000
DTSTAMP:20260421T110207
CREATED:20250902T163247Z
LAST-MODIFIED:20250902T163353Z
UID:10005027-1760202000-1762110000@www.bflanding.com
SUMMARY:Live Music at LandShark Bar & Grill
DESCRIPTION:Join LandShark Bar & Grill every Friday and Saturday for live music on the patio from 5 pm to 8 pm. \n10/3:          Rich Johnson \n10/4:          Mike McManus \n10/10:        Rich Johnson \n10/11:         Brendan Kirby \n10/17:         Amelia Bonner \n10/18:         Melissa Joiner \n10/24:         Amelia Bonner \n10/25:         Rich Johnson \n10/31:          Rich Johnson \n 
URL:https://www.bflanding.com/event/live-music-at-landshark-bar-grill-2/2025-10-11/
ATTACH;FMTTYPE=image/jpeg:https://www.bflanding.com/wp-content/uploads/2024/06/soloist-at-LS-Patio-scaled.jpeg
END:VEVENT
BEGIN:VEVENT
DTSTART;TZID=America/New_York:20251011T080000
DTEND;TZID=America/New_York:20251108T160000
DTSTAMP:20260421T110207
CREATED:20250929T195208Z
LAST-MODIFIED:20250929T195208Z
UID:10005209-1760169600-1762617600@www.bflanding.com
SUMMARY:Crooktoberfest
DESCRIPTION:We’re serving up our all-day\, every-day cookout specials\, releasing fresh fall beers\, holding Crooktoberfest competitions\, and hosting weekly live music. We didn’t forget about the little pints—our schedule includes kid-friendly fun too! \n\nCornhole Tournament: Saturday\, October 4th at 5pm\n\no Bring your bag tossing skills to The Hammock for our Crooktoberfest Cornhole Competition starting at 5pm\, hosted by Coastal Tailgating! This is a $10 Blind Draw Tournament with a 100% Payout for the winner. The winning team will also receive a $50 CHB gift card for each player. Sign up in advance or join us day of! \n\nLive Music: Saturday\, October 11th from 5-8pm
URL:https://www.bflanding.com/event/crooktoberfest-2/2025-10-11/
ATTACH;FMTTYPE=image/jpeg:https://www.bflanding.com/wp-content/uploads/2024/05/E59A4D39-B967-4E07-A7D9-5A6B742B0B2B.jpeg
END:VEVENT
BEGIN:VEVENT
DTSTART;TZID=America/New_York:20251010T170000
DTEND;TZID=America/New_York:20251202T200000
DTSTAMP:20260421T110207
CREATED:20250730T140536Z
LAST-MODIFIED:20250826T155636Z
UID:10004920-1760115600-1764705600@www.bflanding.com
SUMMARY:Live Music on the Pepsi Stage
DESCRIPTION:Join us for live music every Friday evening from 5 pm to 8 pm and Saturday afternoon from 2 pm to 5 pm through October 24th on the Pepsi Stage. \n9/5:                 If Birds Could Fly \n9/6:                 Salty Dog \n9/12:               Super Reggae Man \n913:                 Saluda Shoals \n9/19:               If Birds Could Fly \n9/20:               SeptemberFest! Special Event – bands noon to 8 pm TBA \n9/26:               Alan Bibey Trio \n9/27:               Sweet Sweet \n10/3:               Skyler Whitfield Duo \n10/4:               OktoberFest! Special Event – bands noon to 6 pm TBA \n10/10:               Stringwood \n10/11:               Funky Junk Duo \n10/17:               The Time Pirates \n10/18:               Tastes Like Chicken Duo \n10/24:               TBA \n  \n*Weather permitting \n*All groups and music subject to change
URL:https://www.bflanding.com/event/live-music-on-the-dockside-village-stage-10/
ATTACH;FMTTYPE=image/jpeg:https://www.bflanding.com/wp-content/uploads/2024/05/02023DC1-ACAC-4205-B83B-1ED1F4615D44-scaled.jpeg
END:VEVENT
BEGIN:VEVENT
DTSTART;TZID=America/New_York:20251010T170000
DTEND;TZID=America/New_York:20251101T200000
DTSTAMP:20260421T110207
CREATED:20250902T163247Z
LAST-MODIFIED:20250902T163353Z
UID:10005026-1760115600-1762027200@www.bflanding.com
SUMMARY:Live Music at LandShark Bar & Grill
DESCRIPTION:Join LandShark Bar & Grill every Friday and Saturday for live music on the patio from 5 pm to 8 pm. \n10/3:          Rich Johnson \n10/4:          Mike McManus \n10/10:        Rich Johnson \n10/11:         Brendan Kirby \n10/17:         Amelia Bonner \n10/18:         Melissa Joiner \n10/24:         Amelia Bonner \n10/25:         Rich Johnson \n10/31:          Rich Johnson \n 
URL:https://www.bflanding.com/event/live-music-at-landshark-bar-grill-2/2025-10-10/
ATTACH;FMTTYPE=image/jpeg:https://www.bflanding.com/wp-content/uploads/2024/06/soloist-at-LS-Patio-scaled.jpeg
END:VEVENT
BEGIN:VEVENT
DTSTART;TZID=America/New_York:20251010T080000
DTEND;TZID=America/New_York:20251107T160000
DTSTAMP:20260421T110207
CREATED:20250929T195208Z
LAST-MODIFIED:20250929T195208Z
UID:10005208-1760083200-1762531200@www.bflanding.com
SUMMARY:Crooktoberfest
DESCRIPTION:We’re serving up our all-day\, every-day cookout specials\, releasing fresh fall beers\, holding Crooktoberfest competitions\, and hosting weekly live music. We didn’t forget about the little pints—our schedule includes kid-friendly fun too! \n\nCornhole Tournament: Saturday\, October 4th at 5pm\n\no Bring your bag tossing skills to The Hammock for our Crooktoberfest Cornhole Competition starting at 5pm\, hosted by Coastal Tailgating! This is a $10 Blind Draw Tournament with a 100% Payout for the winner. The winning team will also receive a $50 CHB gift card for each player. Sign up in advance or join us day of! \n\nLive Music: Saturday\, October 11th from 5-8pm
URL:https://www.bflanding.com/event/crooktoberfest-2/2025-10-10/
ATTACH;FMTTYPE=image/jpeg:https://www.bflanding.com/wp-content/uploads/2024/05/E59A4D39-B967-4E07-A7D9-5A6B742B0B2B.jpeg
END:VEVENT
BEGIN:VEVENT
DTSTART;TZID=America/New_York:20251009T080000
DTEND;TZID=America/New_York:20251106T160000
DTSTAMP:20260421T110207
CREATED:20250929T195208Z
LAST-MODIFIED:20250929T195208Z
UID:10005207-1759996800-1762444800@www.bflanding.com
SUMMARY:Crooktoberfest
DESCRIPTION:We’re serving up our all-day\, every-day cookout specials\, releasing fresh fall beers\, holding Crooktoberfest competitions\, and hosting weekly live music. We didn’t forget about the little pints—our schedule includes kid-friendly fun too! \n\nCornhole Tournament: Saturday\, October 4th at 5pm\n\no Bring your bag tossing skills to The Hammock for our Crooktoberfest Cornhole Competition starting at 5pm\, hosted by Coastal Tailgating! This is a $10 Blind Draw Tournament with a 100% Payout for the winner. The winning team will also receive a $50 CHB gift card for each player. Sign up in advance or join us day of! \n\nLive Music: Saturday\, October 11th from 5-8pm
URL:https://www.bflanding.com/event/crooktoberfest-2/2025-10-09/
ATTACH;FMTTYPE=image/jpeg:https://www.bflanding.com/wp-content/uploads/2024/05/E59A4D39-B967-4E07-A7D9-5A6B742B0B2B.jpeg
END:VEVENT
BEGIN:VEVENT
DTSTART;TZID=America/New_York:20251008T080000
DTEND;TZID=America/New_York:20251105T160000
DTSTAMP:20260421T110207
CREATED:20250929T195208Z
LAST-MODIFIED:20250929T195208Z
UID:10005206-1759910400-1762358400@www.bflanding.com
SUMMARY:Crooktoberfest
DESCRIPTION:We’re serving up our all-day\, every-day cookout specials\, releasing fresh fall beers\, holding Crooktoberfest competitions\, and hosting weekly live music. We didn’t forget about the little pints—our schedule includes kid-friendly fun too! \n\nCornhole Tournament: Saturday\, October 4th at 5pm\n\no Bring your bag tossing skills to The Hammock for our Crooktoberfest Cornhole Competition starting at 5pm\, hosted by Coastal Tailgating! This is a $10 Blind Draw Tournament with a 100% Payout for the winner. The winning team will also receive a $50 CHB gift card for each player. Sign up in advance or join us day of! \n\nLive Music: Saturday\, October 11th from 5-8pm
URL:https://www.bflanding.com/event/crooktoberfest-2/2025-10-08/
ATTACH;FMTTYPE=image/jpeg:https://www.bflanding.com/wp-content/uploads/2024/05/E59A4D39-B967-4E07-A7D9-5A6B742B0B2B.jpeg
END:VEVENT
END:VCALENDAR