BEGIN:VCALENDAR
VERSION:2.0
PRODID:-//Barefoot Landing - ECPv6.11.2//NONSGML v1.0//EN
CALSCALE:GREGORIAN
METHOD:PUBLISH
X-WR-CALNAME:Barefoot Landing
X-ORIGINAL-URL:https://www.bflanding.com
X-WR-CALDESC:Events for Barefoot Landing
REFRESH-INTERVAL;VALUE=DURATION:PT1H
X-Robots-Tag:noindex
X-PUBLISHED-TTL:PT1H
BEGIN:VTIMEZONE
TZID:America/New_York
BEGIN:DAYLIGHT
TZOFFSETFROM:-0500
TZOFFSETTO:-0400
TZNAME:EDT
DTSTART:20260308T070000
END:DAYLIGHT
BEGIN:STANDARD
TZOFFSETFROM:-0400
TZOFFSETTO:-0500
TZNAME:EST
DTSTART:20261101T060000
END:STANDARD
END:VTIMEZONE
BEGIN:VEVENT
DTSTART;TZID=America/New_York:20260426T090000
DTEND;TZID=America/New_York:20260426T100000
DTSTAMP:20260419T103001
CREATED:20260108T144957Z
LAST-MODIFIED:20260401T115559Z
UID:10006004-1777194000-1777197600@www.bflanding.com
SUMMARY:Yoga in the Yard
DESCRIPTION:Join Crooked Hammock Brewery for their Yoga in the Yard series with Sea Yoga on Sundays from 9am to 10am. Get rid of your Sunday scaries as they guide you through a relaxing physical & mental workout\, where the style of yoga varies every week. All levels are welcome\, just don’t forget your yoga mat! Outdoors unless the weather pushes us inside.
URL:https://www.bflanding.com/event/yoga-in-the-yard/2026-04-26/
ATTACH;FMTTYPE=image/jpeg:https://www.bflanding.com/wp-content/uploads/2023/12/Crooked-Hammock-Main-Slider.jpg
END:VEVENT
BEGIN:VEVENT
DTSTART;TZID=America/New_York:20260503T090000
DTEND;TZID=America/New_York:20260503T100000
DTSTAMP:20260419T103001
CREATED:20260108T144957Z
LAST-MODIFIED:20260401T115559Z
UID:10006005-1777798800-1777802400@www.bflanding.com
SUMMARY:Yoga in the Yard
DESCRIPTION:Join Crooked Hammock Brewery for their Yoga in the Yard series with Sea Yoga on Sundays from 9am to 10am. Get rid of your Sunday scaries as they guide you through a relaxing physical & mental workout\, where the style of yoga varies every week. All levels are welcome\, just don’t forget your yoga mat! Outdoors unless the weather pushes us inside.
URL:https://www.bflanding.com/event/yoga-in-the-yard/2026-05-03/
ATTACH;FMTTYPE=image/jpeg:https://www.bflanding.com/wp-content/uploads/2023/12/Crooked-Hammock-Main-Slider.jpg
END:VEVENT
BEGIN:VEVENT
DTSTART;TZID=America/New_York:20260510T090000
DTEND;TZID=America/New_York:20260510T100000
DTSTAMP:20260419T103001
CREATED:20260108T144957Z
LAST-MODIFIED:20260401T115559Z
UID:10006006-1778403600-1778407200@www.bflanding.com
SUMMARY:Yoga in the Yard
DESCRIPTION:Join Crooked Hammock Brewery for their Yoga in the Yard series with Sea Yoga on Sundays from 9am to 10am. Get rid of your Sunday scaries as they guide you through a relaxing physical & mental workout\, where the style of yoga varies every week. All levels are welcome\, just don’t forget your yoga mat! Outdoors unless the weather pushes us inside.
URL:https://www.bflanding.com/event/yoga-in-the-yard/2026-05-10/
ATTACH;FMTTYPE=image/jpeg:https://www.bflanding.com/wp-content/uploads/2023/12/Crooked-Hammock-Main-Slider.jpg
END:VEVENT
BEGIN:VEVENT
DTSTART;TZID=America/New_York:20260517T090000
DTEND;TZID=America/New_York:20260517T100000
DTSTAMP:20260419T103001
CREATED:20260108T144957Z
LAST-MODIFIED:20260401T115559Z
UID:10006007-1779008400-1779012000@www.bflanding.com
SUMMARY:Yoga in the Yard
DESCRIPTION:Join Crooked Hammock Brewery for their Yoga in the Yard series with Sea Yoga on Sundays from 9am to 10am. Get rid of your Sunday scaries as they guide you through a relaxing physical & mental workout\, where the style of yoga varies every week. All levels are welcome\, just don’t forget your yoga mat! Outdoors unless the weather pushes us inside.
URL:https://www.bflanding.com/event/yoga-in-the-yard/2026-05-17/
ATTACH;FMTTYPE=image/jpeg:https://www.bflanding.com/wp-content/uploads/2023/12/Crooked-Hammock-Main-Slider.jpg
END:VEVENT
BEGIN:VEVENT
DTSTART;TZID=America/New_York:20260524T090000
DTEND;TZID=America/New_York:20260524T100000
DTSTAMP:20260419T103001
CREATED:20260108T144957Z
LAST-MODIFIED:20260401T115559Z
UID:10006008-1779613200-1779616800@www.bflanding.com
SUMMARY:Yoga in the Yard
DESCRIPTION:Join Crooked Hammock Brewery for their Yoga in the Yard series with Sea Yoga on Sundays from 9am to 10am. Get rid of your Sunday scaries as they guide you through a relaxing physical & mental workout\, where the style of yoga varies every week. All levels are welcome\, just don’t forget your yoga mat! Outdoors unless the weather pushes us inside.
URL:https://www.bflanding.com/event/yoga-in-the-yard/2026-05-24/
ATTACH;FMTTYPE=image/jpeg:https://www.bflanding.com/wp-content/uploads/2023/12/Crooked-Hammock-Main-Slider.jpg
END:VEVENT
BEGIN:VEVENT
DTSTART;TZID=America/New_York:20260531T090000
DTEND;TZID=America/New_York:20260531T100000
DTSTAMP:20260419T103001
CREATED:20260108T144957Z
LAST-MODIFIED:20260401T115559Z
UID:10006009-1780218000-1780221600@www.bflanding.com
SUMMARY:Yoga in the Yard
DESCRIPTION:Join Crooked Hammock Brewery for their Yoga in the Yard series with Sea Yoga on Sundays from 9am to 10am. Get rid of your Sunday scaries as they guide you through a relaxing physical & mental workout\, where the style of yoga varies every week. All levels are welcome\, just don’t forget your yoga mat! Outdoors unless the weather pushes us inside.
URL:https://www.bflanding.com/event/yoga-in-the-yard/2026-05-31/
ATTACH;FMTTYPE=image/jpeg:https://www.bflanding.com/wp-content/uploads/2023/12/Crooked-Hammock-Main-Slider.jpg
END:VEVENT
BEGIN:VEVENT
DTSTART;TZID=America/New_York:20260607T090000
DTEND;TZID=America/New_York:20260607T100000
DTSTAMP:20260419T103002
CREATED:20260108T144957Z
LAST-MODIFIED:20260401T115559Z
UID:10006598-1780822800-1780826400@www.bflanding.com
SUMMARY:Yoga in the Yard
DESCRIPTION:Join Crooked Hammock Brewery for their Yoga in the Yard series with Sea Yoga on Sundays from 9am to 10am. Get rid of your Sunday scaries as they guide you through a relaxing physical & mental workout\, where the style of yoga varies every week. All levels are welcome\, just don’t forget your yoga mat! Outdoors unless the weather pushes us inside.
URL:https://www.bflanding.com/event/yoga-in-the-yard/2026-06-07/
ATTACH;FMTTYPE=image/jpeg:https://www.bflanding.com/wp-content/uploads/2023/12/Crooked-Hammock-Main-Slider.jpg
END:VEVENT
BEGIN:VEVENT
DTSTART;TZID=America/New_York:20260614T090000
DTEND;TZID=America/New_York:20260614T100000
DTSTAMP:20260419T103002
CREATED:20260108T144957Z
LAST-MODIFIED:20260401T115559Z
UID:10006599-1781427600-1781431200@www.bflanding.com
SUMMARY:Yoga in the Yard
DESCRIPTION:Join Crooked Hammock Brewery for their Yoga in the Yard series with Sea Yoga on Sundays from 9am to 10am. Get rid of your Sunday scaries as they guide you through a relaxing physical & mental workout\, where the style of yoga varies every week. All levels are welcome\, just don’t forget your yoga mat! Outdoors unless the weather pushes us inside.
URL:https://www.bflanding.com/event/yoga-in-the-yard/2026-06-14/
ATTACH;FMTTYPE=image/jpeg:https://www.bflanding.com/wp-content/uploads/2023/12/Crooked-Hammock-Main-Slider.jpg
END:VEVENT
BEGIN:VEVENT
DTSTART;TZID=America/New_York:20260621T090000
DTEND;TZID=America/New_York:20260621T100000
DTSTAMP:20260419T103002
CREATED:20260108T144957Z
LAST-MODIFIED:20260401T115559Z
UID:10006600-1782032400-1782036000@www.bflanding.com
SUMMARY:Yoga in the Yard
DESCRIPTION:Join Crooked Hammock Brewery for their Yoga in the Yard series with Sea Yoga on Sundays from 9am to 10am. Get rid of your Sunday scaries as they guide you through a relaxing physical & mental workout\, where the style of yoga varies every week. All levels are welcome\, just don’t forget your yoga mat! Outdoors unless the weather pushes us inside.
URL:https://www.bflanding.com/event/yoga-in-the-yard/2026-06-21/
ATTACH;FMTTYPE=image/jpeg:https://www.bflanding.com/wp-content/uploads/2023/12/Crooked-Hammock-Main-Slider.jpg
END:VEVENT
BEGIN:VEVENT
DTSTART;TZID=America/New_York:20260628T090000
DTEND;TZID=America/New_York:20260628T100000
DTSTAMP:20260419T103002
CREATED:20260108T144957Z
LAST-MODIFIED:20260401T115559Z
UID:10006601-1782637200-1782640800@www.bflanding.com
SUMMARY:Yoga in the Yard
DESCRIPTION:Join Crooked Hammock Brewery for their Yoga in the Yard series with Sea Yoga on Sundays from 9am to 10am. Get rid of your Sunday scaries as they guide you through a relaxing physical & mental workout\, where the style of yoga varies every week. All levels are welcome\, just don’t forget your yoga mat! Outdoors unless the weather pushes us inside.
URL:https://www.bflanding.com/event/yoga-in-the-yard/2026-06-28/
ATTACH;FMTTYPE=image/jpeg:https://www.bflanding.com/wp-content/uploads/2023/12/Crooked-Hammock-Main-Slider.jpg
END:VEVENT
BEGIN:VEVENT
DTSTART;TZID=America/New_York:20260705T090000
DTEND;TZID=America/New_York:20260705T100000
DTSTAMP:20260419T103002
CREATED:20260108T144957Z
LAST-MODIFIED:20260401T115559Z
UID:10006602-1783242000-1783245600@www.bflanding.com
SUMMARY:Yoga in the Yard
DESCRIPTION:Join Crooked Hammock Brewery for their Yoga in the Yard series with Sea Yoga on Sundays from 9am to 10am. Get rid of your Sunday scaries as they guide you through a relaxing physical & mental workout\, where the style of yoga varies every week. All levels are welcome\, just don’t forget your yoga mat! Outdoors unless the weather pushes us inside.
URL:https://www.bflanding.com/event/yoga-in-the-yard/2026-07-05/
ATTACH;FMTTYPE=image/jpeg:https://www.bflanding.com/wp-content/uploads/2023/12/Crooked-Hammock-Main-Slider.jpg
END:VEVENT
BEGIN:VEVENT
DTSTART;TZID=America/New_York:20260712T090000
DTEND;TZID=America/New_York:20260712T100000
DTSTAMP:20260419T103002
CREATED:20260108T144957Z
LAST-MODIFIED:20260401T115559Z
UID:10006603-1783846800-1783850400@www.bflanding.com
SUMMARY:Yoga in the Yard
DESCRIPTION:Join Crooked Hammock Brewery for their Yoga in the Yard series with Sea Yoga on Sundays from 9am to 10am. Get rid of your Sunday scaries as they guide you through a relaxing physical & mental workout\, where the style of yoga varies every week. All levels are welcome\, just don’t forget your yoga mat! Outdoors unless the weather pushes us inside.
URL:https://www.bflanding.com/event/yoga-in-the-yard/2026-07-12/
ATTACH;FMTTYPE=image/jpeg:https://www.bflanding.com/wp-content/uploads/2023/12/Crooked-Hammock-Main-Slider.jpg
END:VEVENT
BEGIN:VEVENT
DTSTART;TZID=America/New_York:20260719T090000
DTEND;TZID=America/New_York:20260719T100000
DTSTAMP:20260419T103002
CREATED:20260108T144957Z
LAST-MODIFIED:20260401T115559Z
UID:10006604-1784451600-1784455200@www.bflanding.com
SUMMARY:Yoga in the Yard
DESCRIPTION:Join Crooked Hammock Brewery for their Yoga in the Yard series with Sea Yoga on Sundays from 9am to 10am. Get rid of your Sunday scaries as they guide you through a relaxing physical & mental workout\, where the style of yoga varies every week. All levels are welcome\, just don’t forget your yoga mat! Outdoors unless the weather pushes us inside.
URL:https://www.bflanding.com/event/yoga-in-the-yard/2026-07-19/
ATTACH;FMTTYPE=image/jpeg:https://www.bflanding.com/wp-content/uploads/2023/12/Crooked-Hammock-Main-Slider.jpg
END:VEVENT
BEGIN:VEVENT
DTSTART;TZID=America/New_York:20260726T090000
DTEND;TZID=America/New_York:20260726T100000
DTSTAMP:20260419T103002
CREATED:20260108T144957Z
LAST-MODIFIED:20260401T115559Z
UID:10006605-1785056400-1785060000@www.bflanding.com
SUMMARY:Yoga in the Yard
DESCRIPTION:Join Crooked Hammock Brewery for their Yoga in the Yard series with Sea Yoga on Sundays from 9am to 10am. Get rid of your Sunday scaries as they guide you through a relaxing physical & mental workout\, where the style of yoga varies every week. All levels are welcome\, just don’t forget your yoga mat! Outdoors unless the weather pushes us inside.
URL:https://www.bflanding.com/event/yoga-in-the-yard/2026-07-26/
ATTACH;FMTTYPE=image/jpeg:https://www.bflanding.com/wp-content/uploads/2023/12/Crooked-Hammock-Main-Slider.jpg
END:VEVENT
BEGIN:VEVENT
DTSTART;TZID=America/New_York:20260802T090000
DTEND;TZID=America/New_York:20260802T100000
DTSTAMP:20260419T103002
CREATED:20260108T144957Z
LAST-MODIFIED:20260401T115559Z
UID:10006606-1785661200-1785664800@www.bflanding.com
SUMMARY:Yoga in the Yard
DESCRIPTION:Join Crooked Hammock Brewery for their Yoga in the Yard series with Sea Yoga on Sundays from 9am to 10am. Get rid of your Sunday scaries as they guide you through a relaxing physical & mental workout\, where the style of yoga varies every week. All levels are welcome\, just don’t forget your yoga mat! Outdoors unless the weather pushes us inside.
URL:https://www.bflanding.com/event/yoga-in-the-yard/2026-08-02/
ATTACH;FMTTYPE=image/jpeg:https://www.bflanding.com/wp-content/uploads/2023/12/Crooked-Hammock-Main-Slider.jpg
END:VEVENT
BEGIN:VEVENT
DTSTART;TZID=America/New_York:20260809T090000
DTEND;TZID=America/New_York:20260809T100000
DTSTAMP:20260419T103002
CREATED:20260108T144957Z
LAST-MODIFIED:20260401T115559Z
UID:10006607-1786266000-1786269600@www.bflanding.com
SUMMARY:Yoga in the Yard
DESCRIPTION:Join Crooked Hammock Brewery for their Yoga in the Yard series with Sea Yoga on Sundays from 9am to 10am. Get rid of your Sunday scaries as they guide you through a relaxing physical & mental workout\, where the style of yoga varies every week. All levels are welcome\, just don’t forget your yoga mat! Outdoors unless the weather pushes us inside.
URL:https://www.bflanding.com/event/yoga-in-the-yard/2026-08-09/
ATTACH;FMTTYPE=image/jpeg:https://www.bflanding.com/wp-content/uploads/2023/12/Crooked-Hammock-Main-Slider.jpg
END:VEVENT
BEGIN:VEVENT
DTSTART;TZID=America/New_York:20260816T090000
DTEND;TZID=America/New_York:20260816T100000
DTSTAMP:20260419T103002
CREATED:20260108T144957Z
LAST-MODIFIED:20260401T115559Z
UID:10006608-1786870800-1786874400@www.bflanding.com
SUMMARY:Yoga in the Yard
DESCRIPTION:Join Crooked Hammock Brewery for their Yoga in the Yard series with Sea Yoga on Sundays from 9am to 10am. Get rid of your Sunday scaries as they guide you through a relaxing physical & mental workout\, where the style of yoga varies every week. All levels are welcome\, just don’t forget your yoga mat! Outdoors unless the weather pushes us inside.
URL:https://www.bflanding.com/event/yoga-in-the-yard/2026-08-16/
ATTACH;FMTTYPE=image/jpeg:https://www.bflanding.com/wp-content/uploads/2023/12/Crooked-Hammock-Main-Slider.jpg
END:VEVENT
BEGIN:VEVENT
DTSTART;TZID=America/New_York:20260823T090000
DTEND;TZID=America/New_York:20260823T100000
DTSTAMP:20260419T103002
CREATED:20260108T144957Z
LAST-MODIFIED:20260401T115559Z
UID:10006609-1787475600-1787479200@www.bflanding.com
SUMMARY:Yoga in the Yard
DESCRIPTION:Join Crooked Hammock Brewery for their Yoga in the Yard series with Sea Yoga on Sundays from 9am to 10am. Get rid of your Sunday scaries as they guide you through a relaxing physical & mental workout\, where the style of yoga varies every week. All levels are welcome\, just don’t forget your yoga mat! Outdoors unless the weather pushes us inside.
URL:https://www.bflanding.com/event/yoga-in-the-yard/2026-08-23/
ATTACH;FMTTYPE=image/jpeg:https://www.bflanding.com/wp-content/uploads/2023/12/Crooked-Hammock-Main-Slider.jpg
END:VEVENT
BEGIN:VEVENT
DTSTART;TZID=America/New_York:20260830T090000
DTEND;TZID=America/New_York:20260830T100000
DTSTAMP:20260419T103002
CREATED:20260108T144957Z
LAST-MODIFIED:20260401T115559Z
UID:10006610-1788080400-1788084000@www.bflanding.com
SUMMARY:Yoga in the Yard
DESCRIPTION:Join Crooked Hammock Brewery for their Yoga in the Yard series with Sea Yoga on Sundays from 9am to 10am. Get rid of your Sunday scaries as they guide you through a relaxing physical & mental workout\, where the style of yoga varies every week. All levels are welcome\, just don’t forget your yoga mat! Outdoors unless the weather pushes us inside.
URL:https://www.bflanding.com/event/yoga-in-the-yard/2026-08-30/
ATTACH;FMTTYPE=image/jpeg:https://www.bflanding.com/wp-content/uploads/2023/12/Crooked-Hammock-Main-Slider.jpg
END:VEVENT
BEGIN:VEVENT
DTSTART;TZID=America/New_York:20260906T090000
DTEND;TZID=America/New_York:20260906T100000
DTSTAMP:20260419T103002
CREATED:20260108T144957Z
LAST-MODIFIED:20260401T115559Z
UID:10006611-1788685200-1788688800@www.bflanding.com
SUMMARY:Yoga in the Yard
DESCRIPTION:Join Crooked Hammock Brewery for their Yoga in the Yard series with Sea Yoga on Sundays from 9am to 10am. Get rid of your Sunday scaries as they guide you through a relaxing physical & mental workout\, where the style of yoga varies every week. All levels are welcome\, just don’t forget your yoga mat! Outdoors unless the weather pushes us inside.
URL:https://www.bflanding.com/event/yoga-in-the-yard/2026-09-06/
ATTACH;FMTTYPE=image/jpeg:https://www.bflanding.com/wp-content/uploads/2023/12/Crooked-Hammock-Main-Slider.jpg
END:VEVENT
BEGIN:VEVENT
DTSTART;TZID=America/New_York:20260913T090000
DTEND;TZID=America/New_York:20260913T100000
DTSTAMP:20260419T103002
CREATED:20260108T144957Z
LAST-MODIFIED:20260401T115559Z
UID:10006612-1789290000-1789293600@www.bflanding.com
SUMMARY:Yoga in the Yard
DESCRIPTION:Join Crooked Hammock Brewery for their Yoga in the Yard series with Sea Yoga on Sundays from 9am to 10am. Get rid of your Sunday scaries as they guide you through a relaxing physical & mental workout\, where the style of yoga varies every week. All levels are welcome\, just don’t forget your yoga mat! Outdoors unless the weather pushes us inside.
URL:https://www.bflanding.com/event/yoga-in-the-yard/2026-09-13/
ATTACH;FMTTYPE=image/jpeg:https://www.bflanding.com/wp-content/uploads/2023/12/Crooked-Hammock-Main-Slider.jpg
END:VEVENT
BEGIN:VEVENT
DTSTART;TZID=America/New_York:20260920T090000
DTEND;TZID=America/New_York:20260920T100000
DTSTAMP:20260419T103002
CREATED:20260108T144957Z
LAST-MODIFIED:20260401T115559Z
UID:10006613-1789894800-1789898400@www.bflanding.com
SUMMARY:Yoga in the Yard
DESCRIPTION:Join Crooked Hammock Brewery for their Yoga in the Yard series with Sea Yoga on Sundays from 9am to 10am. Get rid of your Sunday scaries as they guide you through a relaxing physical & mental workout\, where the style of yoga varies every week. All levels are welcome\, just don’t forget your yoga mat! Outdoors unless the weather pushes us inside.
URL:https://www.bflanding.com/event/yoga-in-the-yard/2026-09-20/
ATTACH;FMTTYPE=image/jpeg:https://www.bflanding.com/wp-content/uploads/2023/12/Crooked-Hammock-Main-Slider.jpg
END:VEVENT
BEGIN:VEVENT
DTSTART;TZID=America/New_York:20260927T090000
DTEND;TZID=America/New_York:20260927T100000
DTSTAMP:20260419T103002
CREATED:20260108T144957Z
LAST-MODIFIED:20260401T115559Z
UID:10006614-1790499600-1790503200@www.bflanding.com
SUMMARY:Yoga in the Yard
DESCRIPTION:Join Crooked Hammock Brewery for their Yoga in the Yard series with Sea Yoga on Sundays from 9am to 10am. Get rid of your Sunday scaries as they guide you through a relaxing physical & mental workout\, where the style of yoga varies every week. All levels are welcome\, just don’t forget your yoga mat! Outdoors unless the weather pushes us inside.
URL:https://www.bflanding.com/event/yoga-in-the-yard/2026-09-27/
ATTACH;FMTTYPE=image/jpeg:https://www.bflanding.com/wp-content/uploads/2023/12/Crooked-Hammock-Main-Slider.jpg
END:VEVENT
BEGIN:VEVENT
DTSTART;TZID=America/New_York:20261004T090000
DTEND;TZID=America/New_York:20261004T100000
DTSTAMP:20260419T103002
CREATED:20260108T144957Z
LAST-MODIFIED:20260401T115559Z
UID:10006615-1791104400-1791108000@www.bflanding.com
SUMMARY:Yoga in the Yard
DESCRIPTION:Join Crooked Hammock Brewery for their Yoga in the Yard series with Sea Yoga on Sundays from 9am to 10am. Get rid of your Sunday scaries as they guide you through a relaxing physical & mental workout\, where the style of yoga varies every week. All levels are welcome\, just don’t forget your yoga mat! Outdoors unless the weather pushes us inside.
URL:https://www.bflanding.com/event/yoga-in-the-yard/2026-10-04/
ATTACH;FMTTYPE=image/jpeg:https://www.bflanding.com/wp-content/uploads/2023/12/Crooked-Hammock-Main-Slider.jpg
END:VEVENT
BEGIN:VEVENT
DTSTART;TZID=America/New_York:20261011T090000
DTEND;TZID=America/New_York:20261011T100000
DTSTAMP:20260419T103002
CREATED:20260108T144957Z
LAST-MODIFIED:20260401T115559Z
UID:10006616-1791709200-1791712800@www.bflanding.com
SUMMARY:Yoga in the Yard
DESCRIPTION:Join Crooked Hammock Brewery for their Yoga in the Yard series with Sea Yoga on Sundays from 9am to 10am. Get rid of your Sunday scaries as they guide you through a relaxing physical & mental workout\, where the style of yoga varies every week. All levels are welcome\, just don’t forget your yoga mat! Outdoors unless the weather pushes us inside.
URL:https://www.bflanding.com/event/yoga-in-the-yard/2026-10-11/
ATTACH;FMTTYPE=image/jpeg:https://www.bflanding.com/wp-content/uploads/2023/12/Crooked-Hammock-Main-Slider.jpg
END:VEVENT
BEGIN:VEVENT
DTSTART;TZID=America/New_York:20261018T090000
DTEND;TZID=America/New_York:20261018T100000
DTSTAMP:20260419T103002
CREATED:20260108T144957Z
LAST-MODIFIED:20260401T115559Z
UID:10006617-1792314000-1792317600@www.bflanding.com
SUMMARY:Yoga in the Yard
DESCRIPTION:Join Crooked Hammock Brewery for their Yoga in the Yard series with Sea Yoga on Sundays from 9am to 10am. Get rid of your Sunday scaries as they guide you through a relaxing physical & mental workout\, where the style of yoga varies every week. All levels are welcome\, just don’t forget your yoga mat! Outdoors unless the weather pushes us inside.
URL:https://www.bflanding.com/event/yoga-in-the-yard/2026-10-18/
ATTACH;FMTTYPE=image/jpeg:https://www.bflanding.com/wp-content/uploads/2023/12/Crooked-Hammock-Main-Slider.jpg
END:VEVENT
BEGIN:VEVENT
DTSTART;TZID=America/New_York:20261025T090000
DTEND;TZID=America/New_York:20261025T100000
DTSTAMP:20260419T103002
CREATED:20260108T144957Z
LAST-MODIFIED:20260401T115559Z
UID:10006618-1792918800-1792922400@www.bflanding.com
SUMMARY:Yoga in the Yard
DESCRIPTION:Join Crooked Hammock Brewery for their Yoga in the Yard series with Sea Yoga on Sundays from 9am to 10am. Get rid of your Sunday scaries as they guide you through a relaxing physical & mental workout\, where the style of yoga varies every week. All levels are welcome\, just don’t forget your yoga mat! Outdoors unless the weather pushes us inside.
URL:https://www.bflanding.com/event/yoga-in-the-yard/2026-10-25/
ATTACH;FMTTYPE=image/jpeg:https://www.bflanding.com/wp-content/uploads/2023/12/Crooked-Hammock-Main-Slider.jpg
END:VEVENT
BEGIN:VEVENT
DTSTART;TZID=America/New_York:20261101T090000
DTEND;TZID=America/New_York:20261101T100000
DTSTAMP:20260419T103003
CREATED:20260108T144957Z
LAST-MODIFIED:20260401T115559Z
UID:10006619-1793523600-1793527200@www.bflanding.com
SUMMARY:Yoga in the Yard
DESCRIPTION:Join Crooked Hammock Brewery for their Yoga in the Yard series with Sea Yoga on Sundays from 9am to 10am. Get rid of your Sunday scaries as they guide you through a relaxing physical & mental workout\, where the style of yoga varies every week. All levels are welcome\, just don’t forget your yoga mat! Outdoors unless the weather pushes us inside.
URL:https://www.bflanding.com/event/yoga-in-the-yard/2026-11-01/
ATTACH;FMTTYPE=image/jpeg:https://www.bflanding.com/wp-content/uploads/2023/12/Crooked-Hammock-Main-Slider.jpg
END:VEVENT
BEGIN:VEVENT
DTSTART;TZID=America/New_York:20261108T090000
DTEND;TZID=America/New_York:20261108T100000
DTSTAMP:20260419T103003
CREATED:20260108T144957Z
LAST-MODIFIED:20260401T115559Z
UID:10006620-1794128400-1794132000@www.bflanding.com
SUMMARY:Yoga in the Yard
DESCRIPTION:Join Crooked Hammock Brewery for their Yoga in the Yard series with Sea Yoga on Sundays from 9am to 10am. Get rid of your Sunday scaries as they guide you through a relaxing physical & mental workout\, where the style of yoga varies every week. All levels are welcome\, just don’t forget your yoga mat! Outdoors unless the weather pushes us inside.
URL:https://www.bflanding.com/event/yoga-in-the-yard/2026-11-08/
ATTACH;FMTTYPE=image/jpeg:https://www.bflanding.com/wp-content/uploads/2023/12/Crooked-Hammock-Main-Slider.jpg
END:VEVENT
BEGIN:VEVENT
DTSTART;TZID=America/New_York:20261115T090000
DTEND;TZID=America/New_York:20261115T100000
DTSTAMP:20260419T103003
CREATED:20260108T144957Z
LAST-MODIFIED:20260401T115559Z
UID:10006621-1794733200-1794736800@www.bflanding.com
SUMMARY:Yoga in the Yard
DESCRIPTION:Join Crooked Hammock Brewery for their Yoga in the Yard series with Sea Yoga on Sundays from 9am to 10am. Get rid of your Sunday scaries as they guide you through a relaxing physical & mental workout\, where the style of yoga varies every week. All levels are welcome\, just don’t forget your yoga mat! Outdoors unless the weather pushes us inside.
URL:https://www.bflanding.com/event/yoga-in-the-yard/2026-11-15/
ATTACH;FMTTYPE=image/jpeg:https://www.bflanding.com/wp-content/uploads/2023/12/Crooked-Hammock-Main-Slider.jpg
END:VEVENT
END:VCALENDAR