BEGIN:VCALENDAR
VERSION:2.0
PRODID:-//Barefoot Landing - ECPv6.11.2//NONSGML v1.0//EN
CALSCALE:GREGORIAN
METHOD:PUBLISH
X-WR-CALNAME:Barefoot Landing
X-ORIGINAL-URL:https://www.bflanding.com
X-WR-CALDESC:Events for Barefoot Landing
REFRESH-INTERVAL;VALUE=DURATION:PT1H
X-Robots-Tag:noindex
X-PUBLISHED-TTL:PT1H
BEGIN:VTIMEZONE
TZID:America/New_York
BEGIN:DAYLIGHT
TZOFFSETFROM:-0500
TZOFFSETTO:-0400
TZNAME:EDT
DTSTART:20260308T070000
END:DAYLIGHT
BEGIN:STANDARD
TZOFFSETFROM:-0400
TZOFFSETTO:-0500
TZNAME:EST
DTSTART:20261101T060000
END:STANDARD
END:VTIMEZONE
BEGIN:VEVENT
DTSTART;TZID=America/New_York:20260423T170000
DTEND;TZID=America/New_York:20260423T200000
DTSTAMP:20260420T030440
CREATED:20260224T195912Z
LAST-MODIFIED:20260224T195912Z
UID:10006328-1776963600-1776974400@www.bflanding.com
SUMMARY:Kenny Martin Performs
DESCRIPTION:Come hear the smooth jazz sounds of Kenny Martin\, singer and musician as he entertains on the deck by Auntie Anne’s and Purpleologist this Spring at Barefoot Landing on Thursdays from 5pm to 8pm.
URL:https://www.bflanding.com/event/kenny-martin-performs/2026-04-23/
ATTACH;FMTTYPE=image/jpeg:https://www.bflanding.com/wp-content/uploads/2025/06/1000019875-scaled.jpg
END:VEVENT
BEGIN:VEVENT
DTSTART;TZID=America/New_York:20260430T170000
DTEND;TZID=America/New_York:20260430T200000
DTSTAMP:20260420T030440
CREATED:20260224T195912Z
LAST-MODIFIED:20260224T195912Z
UID:10006329-1777568400-1777579200@www.bflanding.com
SUMMARY:Kenny Martin Performs
DESCRIPTION:Come hear the smooth jazz sounds of Kenny Martin\, singer and musician as he entertains on the deck by Auntie Anne’s and Purpleologist this Spring at Barefoot Landing on Thursdays from 5pm to 8pm.
URL:https://www.bflanding.com/event/kenny-martin-performs/2026-04-30/
ATTACH;FMTTYPE=image/jpeg:https://www.bflanding.com/wp-content/uploads/2025/06/1000019875-scaled.jpg
END:VEVENT
BEGIN:VEVENT
DTSTART;TZID=America/New_York:20260507T170000
DTEND;TZID=America/New_York:20260507T200000
DTSTAMP:20260420T030440
CREATED:20260224T195912Z
LAST-MODIFIED:20260224T195912Z
UID:10006330-1778173200-1778184000@www.bflanding.com
SUMMARY:Kenny Martin Performs
DESCRIPTION:Come hear the smooth jazz sounds of Kenny Martin\, singer and musician as he entertains on the deck by Auntie Anne’s and Purpleologist this Spring at Barefoot Landing on Thursdays from 5pm to 8pm.
URL:https://www.bflanding.com/event/kenny-martin-performs/2026-05-07/
ATTACH;FMTTYPE=image/jpeg:https://www.bflanding.com/wp-content/uploads/2025/06/1000019875-scaled.jpg
END:VEVENT
BEGIN:VEVENT
DTSTART;TZID=America/New_York:20260514T170000
DTEND;TZID=America/New_York:20260514T200000
DTSTAMP:20260420T030440
CREATED:20260224T195912Z
LAST-MODIFIED:20260224T195912Z
UID:10006331-1778778000-1778788800@www.bflanding.com
SUMMARY:Kenny Martin Performs
DESCRIPTION:Come hear the smooth jazz sounds of Kenny Martin\, singer and musician as he entertains on the deck by Auntie Anne’s and Purpleologist this Spring at Barefoot Landing on Thursdays from 5pm to 8pm.
URL:https://www.bflanding.com/event/kenny-martin-performs/2026-05-14/
ATTACH;FMTTYPE=image/jpeg:https://www.bflanding.com/wp-content/uploads/2025/06/1000019875-scaled.jpg
END:VEVENT
BEGIN:VEVENT
DTSTART;TZID=America/New_York:20260521T170000
DTEND;TZID=America/New_York:20260521T200000
DTSTAMP:20260420T030440
CREATED:20260224T195912Z
LAST-MODIFIED:20260224T195912Z
UID:10006332-1779382800-1779393600@www.bflanding.com
SUMMARY:Kenny Martin Performs
DESCRIPTION:Come hear the smooth jazz sounds of Kenny Martin\, singer and musician as he entertains on the deck by Auntie Anne’s and Purpleologist this Spring at Barefoot Landing on Thursdays from 5pm to 8pm.
URL:https://www.bflanding.com/event/kenny-martin-performs/2026-05-21/
ATTACH;FMTTYPE=image/jpeg:https://www.bflanding.com/wp-content/uploads/2025/06/1000019875-scaled.jpg
END:VEVENT
BEGIN:VEVENT
DTSTART;TZID=America/New_York:20260528T170000
DTEND;TZID=America/New_York:20260528T200000
DTSTAMP:20260420T030440
CREATED:20260224T195912Z
LAST-MODIFIED:20260224T195912Z
UID:10006333-1779987600-1779998400@www.bflanding.com
SUMMARY:Kenny Martin Performs
DESCRIPTION:Come hear the smooth jazz sounds of Kenny Martin\, singer and musician as he entertains on the deck by Auntie Anne’s and Purpleologist this Spring at Barefoot Landing on Thursdays from 5pm to 8pm.
URL:https://www.bflanding.com/event/kenny-martin-performs/2026-05-28/
ATTACH;FMTTYPE=image/jpeg:https://www.bflanding.com/wp-content/uploads/2025/06/1000019875-scaled.jpg
END:VEVENT
BEGIN:VEVENT
DTSTART;TZID=America/New_York:20260604T170000
DTEND;TZID=America/New_York:20260604T200000
DTSTAMP:20260420T030440
CREATED:20260224T195912Z
LAST-MODIFIED:20260224T195912Z
UID:10006334-1780592400-1780603200@www.bflanding.com
SUMMARY:Kenny Martin Performs
DESCRIPTION:Come hear the smooth jazz sounds of Kenny Martin\, singer and musician as he entertains on the deck by Auntie Anne’s and Purpleologist this Spring at Barefoot Landing on Thursdays from 5pm to 8pm.
URL:https://www.bflanding.com/event/kenny-martin-performs/2026-06-04/
ATTACH;FMTTYPE=image/jpeg:https://www.bflanding.com/wp-content/uploads/2025/06/1000019875-scaled.jpg
END:VEVENT
END:VCALENDAR